BEGIN:VCALENDAR
VERSION:2.0
PRODID:-//Fordham Abbey - ECPv5.14.1//NONSGML v1.0//EN
CALSCALE:GREGORIAN
METHOD:PUBLISH
X-WR-CALNAME:Fordham Abbey
X-ORIGINAL-URL:https://www.fordhamabbey.com
X-WR-CALDESC:Events for Fordham Abbey
REFRESH-INTERVAL;VALUE=DURATION:PT1H
X-Robots-Tag:noindex
X-PUBLISHED-TTL:PT1H
BEGIN:VTIMEZONE
TZID:Europe/London
BEGIN:DAYLIGHT
TZOFFSETFROM:+0000
TZOFFSETTO:+0100
TZNAME:BST
DTSTART:20220327T010000
END:DAYLIGHT
BEGIN:STANDARD
TZOFFSETFROM:+0100
TZOFFSETTO:+0000
TZNAME:GMT
DTSTART:20221030T010000
END:STANDARD
END:VTIMEZONE
BEGIN:VEVENT
DTSTART;TZID=Europe/London:20220213T100000
DTEND;TZID=Europe/London:20220213T153000
DTSTAMP:20260422T120506
CREATED:20220302T141759Z
LAST-MODIFIED:20220302T145507Z
UID:3827-1644746400-1644766200@www.fordhamabbey.com
SUMMARY:Snowdrops and Woodblock Prints Exhibition
DESCRIPTION:It may be cold but perfect time to see the grounds of Fordham Abbey covered in Snowdrops and Aconites.  Quite Romantic! \nOn Sunday 13th February we are opening the grounds of Fordham Abbey including Japanese garden\, garden behind the house and the Georgian House itself to the public\, the area normally reserved for the members only. \nThe exhibition of Woodblock Prints sponsored by Tokyo Metropolitan Government will be held in the Georgian House.  The house and the grounds will be open between 10:00 – 15:30 \nThe Event Hall Cafe overlooking the kitchen garden will be open for hot food and drinks.\nHot Sake will be available! \nAdvance booking  £10 per person / £12 on the day
URL:https://www.fordhamabbey.com/event/snowdrops-and-woodblock-prints-exhibition/
LOCATION:The Georgian House\, Fordham Abbey\, 39 Newmarket Road\,\, Fordham\, CB7 5LL\, United Kingdom
CATEGORIES:Exhibitions,Garden Events
ATTACH;FMTTYPE=image/jpeg:https://www.fordhamabbey.com/wp-content/uploads/2022/03/snowdrops.jpg
END:VEVENT
BEGIN:VEVENT
DTSTART;TZID=Europe/London:20220216T183000
DTEND;TZID=Europe/London:20220216T223000
DTSTAMP:20260422T120506
CREATED:20220302T150209Z
LAST-MODIFIED:20220302T150512Z
UID:3861-1645036200-1645050600@www.fordhamabbey.com
SUMMARY:One Hundred Aspects of the Moon - Celebration Dinner & Sake Tasting
DESCRIPTION:On this full moon evening\,  surrounded by Tsukioka Yoshitoshi‘s woodblock prints aptly titled ‘ONE HUNDRED ASPECTS of the MOON’\,   we are hosting a dinner party in the Georgian house with our sake and tasting menu. \nWe will welcome our guests with a roaring fire and a glass of champagne.  You are free to walk around the rooms to see the Woodblock prints exhibition before sitting down in the dinning room for exquisite 5 course tasting menu cooked by a top Japanese chef from London paired with our own 4 different sake.    After the dinner\, we will be braving out to the Japanese garden to see the full moon rise.  You will be served hot sweet ama-sake in the garden to keep you warm. \nPrice: \n1 ticket £145\n2 tickets £280\n3 tickets £420\n4 tickets £550 \nIt is limited to 20 guests only.\nThe guests will seat around one large dining table in the drawing room. \nCOVID rules will be observed.
URL:https://www.fordhamabbey.com/event/one-hundred-aspects-of-the-moon-celebration-dinner-sake-tasting/
LOCATION:The Georgian House\, Fordham Abbey\, 39 Newmarket Road\,\, Fordham\, CB7 5LL\, United Kingdom
CATEGORIES:Dining,Exhibitions
ATTACH;FMTTYPE=image/jpeg:https://www.fordhamabbey.com/wp-content/uploads/2022/03/fordham-abbey-interior.jpeg
END:VEVENT
BEGIN:VEVENT
DTSTART;TZID=Europe/London:20220303T183000
DTEND;TZID=Europe/London:20220303T230000
DTSTAMP:20260422T120506
CREATED:20220301T131345Z
LAST-MODIFIED:20220302T145500Z
UID:3691-1646332200-1646348400@www.fordhamabbey.com
SUMMARY:Hina Matsuri Dinner by Megumi
DESCRIPTION:We welcome Megumi Takeyama\, the founder of MEGUMI’S Supper Club and the owner of RISE Japanese Bakery & Bar located in the heart of London. RISE is the only official bakery using Dojima’s sake kasu for their artisanal products. Megumi confesses to be an insatiable food lover who uses food as her canvas to convey the beauty of Japanese culture. \nWith collaboration with Megumi\, we have created a beautiful celebratory Hina Matsuri menu which we hope will entertain the eyes and satisfy the taste buds. \nKnown as “Girls’ Day” or “Doll Festival” in English\, Hina Matsuri is a Japanese annual festival which takes place on 3rd March. This day is dedicated to celebrate and pray for the good health and happiness of young girls. On the day of Hina Matsuri\, families gethar and enjoy traditional delicacies such as chirashi-sushi\, clear clam soup\, hina-arare (colourful rice crackers) and hishi-mochi (diamond-shaped layered mochi cake) and amazake. \nOur Hina Matsuri Dinner will be an omakase style 8 course menu using carefully selected ingredients and Dojima’s sake kasu.
URL:https://www.fordhamabbey.com/event/hina-matsuri-dinner-by-megumi/
LOCATION:The Georgian House\, Fordham Abbey\, 39 Newmarket Road\,\, Fordham\, CB7 5LL\, United Kingdom
CATEGORIES:Dining
ATTACH;FMTTYPE=image/png:https://www.fordhamabbey.com/wp-content/uploads/2022/02/hima-maturi-dinner.png
END:VEVENT
END:VCALENDAR